BEGIN:VCALENDAR
VERSION:2.0
PRODID:-//OxfordPTO.com - ECPv6.15.20//NONSGML v1.0//EN
CALSCALE:GREGORIAN
METHOD:PUBLISH
X-WR-CALNAME:OxfordPTO.com
X-ORIGINAL-URL:https://oxfordpto.com
X-WR-CALDESC:Events for OxfordPTO.com
REFRESH-INTERVAL;VALUE=DURATION:PT1H
X-Robots-Tag:noindex
X-PUBLISHED-TTL:PT1H
BEGIN:VTIMEZONE
TZID:America/New_York
BEGIN:DAYLIGHT
TZOFFSETFROM:-0500
TZOFFSETTO:-0400
TZNAME:EDT
DTSTART:20190310T070000
END:DAYLIGHT
BEGIN:STANDARD
TZOFFSETFROM:-0400
TZOFFSETTO:-0500
TZNAME:EST
DTSTART:20191103T060000
END:STANDARD
BEGIN:DAYLIGHT
TZOFFSETFROM:-0500
TZOFFSETTO:-0400
TZNAME:EDT
DTSTART:20200308T070000
END:DAYLIGHT
BEGIN:STANDARD
TZOFFSETFROM:-0400
TZOFFSETTO:-0500
TZNAME:EST
DTSTART:20201101T060000
END:STANDARD
BEGIN:DAYLIGHT
TZOFFSETFROM:-0500
TZOFFSETTO:-0400
TZNAME:EDT
DTSTART:20210314T070000
END:DAYLIGHT
BEGIN:STANDARD
TZOFFSETFROM:-0400
TZOFFSETTO:-0500
TZNAME:EST
DTSTART:20211107T060000
END:STANDARD
BEGIN:DAYLIGHT
TZOFFSETFROM:-0500
TZOFFSETTO:-0400
TZNAME:EDT
DTSTART:20220313T070000
END:DAYLIGHT
BEGIN:STANDARD
TZOFFSETFROM:-0400
TZOFFSETTO:-0500
TZNAME:EST
DTSTART:20221106T060000
END:STANDARD
BEGIN:DAYLIGHT
TZOFFSETFROM:-0500
TZOFFSETTO:-0400
TZNAME:EDT
DTSTART:20230312T070000
END:DAYLIGHT
BEGIN:STANDARD
TZOFFSETFROM:-0400
TZOFFSETTO:-0500
TZNAME:EST
DTSTART:20231105T060000
END:STANDARD
BEGIN:DAYLIGHT
TZOFFSETFROM:-0500
TZOFFSETTO:-0400
TZNAME:EDT
DTSTART:20240310T070000
END:DAYLIGHT
BEGIN:STANDARD
TZOFFSETFROM:-0400
TZOFFSETTO:-0500
TZNAME:EST
DTSTART:20241103T060000
END:STANDARD
END:VTIMEZONE
BEGIN:VEVENT
DTSTART;TZID=America/New_York:20231001T120000
DTEND;TZID=America/New_York:20231001T150000
DTSTAMP:20260420T165216
CREATED:20230918T181700Z
LAST-MODIFIED:20230918T181700Z
UID:2140-1696161600-1696172400@oxfordpto.com
SUMMARY:Halloween Costume Sale
DESCRIPTION:
URL:https://oxfordpto.com/event/halloween-costume-sale-2023/
LOCATION:Tommy K’s Plaza\, 144 Oxford Road\, Oxford\, CT\, 06478\, United States
CATEGORIES:Event for Kids
END:VEVENT
BEGIN:VEVENT
DTSTART;TZID=America/New_York:20200827T101500
DTEND;TZID=America/New_York:20200827T134500
DTSTAMP:20260420T165216
CREATED:20200819T165242Z
LAST-MODIFIED:20200819T165242Z
UID:1578-1598523300-1598535900@oxfordpto.com
SUMMARY:Kindergarten Meet and Greet
DESCRIPTION:What? – Kindergarten Meet & Greet \nWhen? – Thursday\, August 27\, 2020 \nHow? – All incoming kindergarteners and ONE adult (no others including siblings \nare allowed) are invited to a Kindergarten Meet & Greet where students will be \nable to say hello to their teacher\, see their classroom\, drop off their school \nsupplies\, pick up some important information and sit/ride on a school bus. \nEveryone is required to wear a mask and adhere to all social distancing guidelines. \nTimes? – There is no formal presentation so feel free to drop in whenever you can \nduring the one-hour time block that works best for you. You will be receiving a \nletter from your child’s teacher by the end of this week! Please adhere to the \nfollowing schedule: \n\nMrs. Mattutini and Ms. Harmann – 9:00am – 10:00am for last names beginning\nwith A-K and 10:15am – 11:15am for last names beginning with L-Z. You\nMUST enter and exit through the main entrance doors.\nMs. Cook and Ms. Rydz – 9:00am – 10:00am for last names beginning with A-K\nand 10:15am – 11:15am for last names beginning with L-Z. You MUST enter\nand exit through the side doors next to the fenced-in playground at the\nfront of the building.\nMs. Miller and Mrs. Bacchiocchi – 11:30am – 12:30 for last names beginning\nwith A-K and 12:45am – 1:45pm for last names beginning with L-Z. You\nMUST enter and exit through the side doors next to the fenced-in\nplayground at the front of the building.
URL:https://oxfordpto.com/event/kindergarten-meet-and-greet/
LOCATION:CT
CATEGORIES:Event for Kids,School Calendar
END:VEVENT
BEGIN:VEVENT
DTSTART;TZID=America/New_York:20200428T080000
DTEND;TZID=America/New_York:20200429T170000
DTSTAMP:20260420T165216
CREATED:20200306T194739Z
LAST-MODIFIED:20200306T194739Z
UID:1383-1588060800-1588179600@oxfordpto.com
SUMMARY:Spring Book Fair - GOMS
DESCRIPTION:
URL:https://oxfordpto.com/event/spring-book-fair-goms/
LOCATION:CT
CATEGORIES:Event for Kids,Fundraiser
END:VEVENT
BEGIN:VEVENT
DTSTART;TZID=America/New_York:20200423T060000
DTEND;TZID=America/New_York:20200423T200000
DTSTAMP:20260420T165216
CREATED:20200306T194706Z
LAST-MODIFIED:20200306T194706Z
UID:1382-1587621600-1587672000@oxfordpto.com
SUMMARY:Ice Cream Social at QFS
DESCRIPTION:
URL:https://oxfordpto.com/event/ice-cream-social-at-qfs/
LOCATION:CT
CATEGORIES:Event for Kids
END:VEVENT
BEGIN:VEVENT
DTSTART;VALUE=DATE:20200422
DTEND;VALUE=DATE:20200424
DTSTAMP:20260420T165216
CREATED:20200306T194626Z
LAST-MODIFIED:20200306T194626Z
UID:1381-1587513600-1587686399@oxfordpto.com
SUMMARY:Spring Book Fair - OCS/QFS
DESCRIPTION:
URL:https://oxfordpto.com/event/spring-book-fair-ocs-qfs/
LOCATION:CT
CATEGORIES:Event for Kids,Fundraiser
END:VEVENT
BEGIN:VEVENT
DTSTART;TZID=America/New_York:20200313T060000
DTEND;TZID=America/New_York:20200313T200000
DTSTAMP:20260420T165216
CREATED:20200306T194531Z
LAST-MODIFIED:20200306T194531Z
UID:1379-1584079200-1584129600@oxfordpto.com
SUMMARY:Great Oak Spring Shamrock Dance
DESCRIPTION:
URL:https://oxfordpto.com/event/great-oak-spring-shamrock-dance/
LOCATION:CT
CATEGORIES:Event for Kids,Fundraiser
END:VEVENT
END:VCALENDAR